Workbook

Sheet 1.전체 보유현황
A1: 지방자치단체 공용차량 보유현황 (전체)
A2: ['25.12.31기준] | AA2: (단위 : 대)
A3: 차종별 차형별 시도별 | B3: 합계 | C3: 승 용 | I3: 승 합 용 | N3: 화 물 용 | S3: 특 수 용
C4: 소 계 | D4: 대 형 | E4: 중 형 | F4: 소 형 | G4: 경 형 | H4: 다 목 적 | I4: 소 계 | J4: 대 형 | K4: 중 형 | L4: 소 형 | M4: 경 형 | N4: 소 계 | O4: 대 형 | P4: 중 형 | Q4: 소 형 | R4: 경 형 | S4: 소 계 | T4: 청 소 차 | U4: 앰 브 란 스 | V4: 분 뇨 차 | W4: 음 식 물 수 거 | X4: 이 동 수 리 차 | Y4: 급 수 살 수 차 | Z4: 트 럭 트 렉 타 | AA4: 트 레 일 러 | AB4: 렉 카 차 | AC4: 소 방 차 | AD4: 기 타
A5: 합계 | B5: =SUM(B6:B6) -> 236 | C5: =SUM(C6:C6) -> 111 | D5: =SUM(D6:D6) -> 4 | E5: =SUM(E6:E6) -> 54 | F5: =SUM(F6:F6) -> 5 | G5: =SUM(G6:G6) -> 28 | H5: =SUM(H6:H6) -> 20 | I5: =SUM(I6:I6) -> 17 | ... AD5: =SUM(AD6:AD6) -> 12
A6: 시군구 소계 | B6: =SUM(C6,I6,N6,S6) -> 236 | C6: =SUM(D6:H6) -> 111 | D6: =SUM(D7:D7) -> 4 | E6: =SUM(E7:E7) -> 54 | F6: =SUM(F7:F7) -> 5 | G6: =SUM(G7:G7) -> 28 | H6: =SUM(H7:H7) -> 20 | I6: =SUM(J6:M6) -> 17 | J6: =SUM(J7:J7) -> 2 | K6: =SUM(K7:K7) -> 15 | L6: =SUM(L7:L7) -> 0 | M6: =SUM(M7:M7) -> 0 | N6: =SUM(O6:R6) -> 49 | O6: =SUM(O7:O7) -> 2 | P6: =SUM(P7:P7) -> 3 | Q6: =SUM(Q7:Q7) -> 44 | R6: =SUM(R7:R7) -> 0 | S6: =SUM(T6:AD6) -> 59 | T6: =SUM(T7:T7) -> 44 | U6: =SUM(U7:U7) -> 2 | V6: =SUM(V7:V7) -> 0 | W6: =SUM(W7:W7) -> 0 | X6: =SUM(X7:X7) -> 0 | Y6: =SUM(Y7:Y7) -> 0 | Z6: =SUM(Z7:Z7) -> 0 | AA6: =SUM(AA7:AA7) -> 0 | ... AD6: =SUM(AD7:AD7) -> 12
A7: 강화군 | B7: =C7+I7+N7+S7 -> 236 | C7: 111 | D7: 4 | E7: 54 | F7: 5 | G7: 28 | H7: 20 | I7: 17 | J7: 2 | K7: 15 | L7: 0 | M7: 0 | N7: 49 | O7: 2 | P7: 3 | Q7: 44 | S7: 59 | T7: 44 | U7: 2 | AB7: 1 | AD7: 12

Sheet 2.단체장 전용차량
A1: 지방자치단체 단체장 전용차량 운영현황
A3: ='1.전체 보유현황'!A2:B2 -> ['25.12.31기준] | J3: (단위 : cc, 천원)
A4: 시도별 | B4: 시군구명 | C4: 차 명 | D4: 배기량 | E4: 구입연도 | F4: 구입금액 | G4: 등록일자 | H4: 운행연수 (연-월) | I4: 에코차 여부 | J4: 비고
A5: 계 | C5: 1대
A6: 인천시 | B6: 본청 | C6: 1대
B7: 강화군 | C7: 그랜드카니발리무진 | D7: 3342 | E7: 2018 | F7: 39392 | G7: 43377 | H7: 7-2 | I7: 해당없음

Sheet 3.부단체장 전용차량
A1: 지방자치단체 부단체장 전용차량 운영현황
A3: ='1.전체 보유현황'!A2:B2 -> ['25.12.31기준] | J3: (단위 : cc, 천원)
A4: 시도별 | B4: 자치단체별 | C4: 차 명 | D4: 배기량 | E4: 구입연도 | F4: 구입금액 | G4: 등록일자 | H4: 운행연수 (연-월) | I4: 에코차 여부 | J4: 비고
A5: 계 | C5: 1대
A6: 인천시 | B6: 본청 | C6: 1대
B7: 강화군 | C7: 쏘나타하이브리드 | D7: 1999 | E7: 2020 | F7: 34530 | G7: 43994 | H7: 5-6 | I7: 하이브리드

Sheet 4.지방의회의장 전용차량
A1: 지방자치단체 의회의장 전용차량 운영현황
A3: ='1.전체 보유현황'!A2:B2 -> ['25.12.31기준] | J3: (단위 : cc, 천원)
A4: 시도별 | B4: 자치단체별 | C4: 차 명 | D4: 배기량 | E4: 구입연도 | F4: 구입금액 | G4: 등록일자 | H4: 운행연수 (연-월) | I4: 에코차 여부 | J4: 비고
A5: 계 | C5: 1대
A6: 인천시 | B6: 본청
B7: 강화군 | C7: 그랜드카니발리무진 | D7: 3342 | E7: 2018 | F7: 39392 | G7: 43377 | H7: 7-2 | I7: 해당없음
B8: 강화군 | C8: 스타리아라운지 | D8: 1598 | E8: 2025 | F8: 44551 | G8: 45748 | H8: 0-8 | I8: 해당없음

Sheet 5.임차차량 운영현황
A1: 지방자치단체 임차차량 운영현황
A2: ='1.전체 보유현황'!A2:B2 -> ['25.12.31기준] | L2: (단위 : cc, 천원)
A3: 시도별 | B3: 자치단체별 | C3: 차 종 | D3: 차 형 | E3: 차 명 | F3: 배기량 | G3: 임차기간 | J3: 월임차료 | K3: 임차사유 | L3: 비고
G4: 기간 | H4: 개시일 | I4: 종료일
A5: 계 | C5: 0
A6: 인천시 | B6: 본청 | C6: 해 | D6: 당 | E6: 없 | F6: 음

Sheet 5.승용차량 및 에너지절감형차량 보유현황
A1: 지방자치단체 승용차량 및 에너지절감형차량 보유 현황
A2: ='1.전체 보유현황'!A2:B2 -> ['25.12.31기준] | AV2: (단위 : 대)
A3: 구분 | B3: 합계 | C3: 대 형 | N3: 중 형 | Y3: 소 형 | AJ3: 경 형 | AO3: 다목적형
C4: 소계 | D4: 일반 | G4: 하이 브리드 | J4: 기타 환경친화적 차 | M4: 전기 | N4: 소계 | O4: 일반 | R4: 하이 브리드 | U4: 기타 환경친화적 차 | X4: 전기 | Y4: 소계 | Z4: 일반 | AC4: 하이 브리드 | AF4: 기타 환경친화적차 | AI4: 전기 | AJ4: 소계 | AK4: 일반 | AN4: 전기 | AO4: 소계 | AP4: 일반 | AS4: 하이 브리드 | AV4: 기타 환경친화적차 | AY4: 전기
D5: 전용 | E5: 의전용 | F5: 업무용 | G5: 전용 | H5: 의전용 | I5: 업무용 | J5: 전용 | K5: 의전용 | L5: 업무용 | M5: 업무용 | O5: 전용 | P5: 의전용 | Q5: 업무용 | R5: 전용 | S5: 의전용 | T5: 업무용 | U5: 전용 | V5: 의전용 | W5: 업무용 | X5: 업무용 | Z5: 전용 | AA5: 의전용 | AB5: 업무용 | AC5: 전용 | AD5: 의전용 | AE5: 업무용 | AF5: 전용 | AG5: 의전용 | AH5: 업무용 | AI5: 업무용 | AK5: 전용 | AL5: 의전용 | AM5: 업무용 | AN5: 업무용 | AP5: 전용 | AQ5: 의전용 | AR5: 업무용 | AS5: 전용 | AT5: 의전용 | AU5: 업무용 | AV5: 전용 | AW5: 의전용 | AX5: 업무용 | AY5: 업무용
A6: 합계 | B6: =SUM(C6,N6,Y6,AJ6,AO6) -> 111 | C6: =SUM(D6:M6) -> 4 | D6: =SUM(D7:D7) -> 1 | E6: =SUM(E7:E7) -> 1 | F6: =SUM(F7:F7) -> 2 | G6: =SUM(G7:G7) -> 0 | H6: =SUM(H7:H7) -> 0 | I6: =SUM(I7:I7) -> 0 | J6: =SUM(J7:J7) -> 0 | K6: =SUM(K7:K7) -> 0 | ... M6: =SUM(M7:M7) -> 0 | N6: =SUM(O6:X6) -> 54 | O6: =SUM(O7:O7) -> 0 | P6: =SUM(P7:P7) -> 0 | Q6: =SUM(Q7:Q7) -> 11 | R6: =SUM(R7:R7) -> 1 | S6: =SUM(S7:S7) -> 1 | T6: =SUM(T7:T7) -> 2 | U6: =SUM(U7:U7) -> 0 | V6: =SUM(V7:V7) -> 0 | ... X6: =SUM(X7:X7) -> 39 | Y6: =SUM(Z6:AI6) -> 5 | Z6: =SUM(Z7:Z7) -> 0 | AA6: =SUM(AA7:AA7) -> 0 | AB6: =SUM(AB7:AB7) -> 5 | AC6: =SUM(AC7:AC7) -> 0 | AD6: =SUM(AD7:AD7) -> 0 | AE6: =SUM(AE7:AE7) -> 0 | AF6: =SUM(AF7:AF7) -> 0 | AG6: =SUM(AG7:AG7) -> 0 | ... AI6: =SUM(AI7:AI7) -> 0 | AJ6: =SUM(AK6:AN6) -> 28 | AK6: =SUM(AK7:AK7) -> 0 | AL6: =SUM(AL7:AL7) -> 0 | AM6: =SUM(AM7:AM7) -> 28 | AN6: =SUM(AN7:AN7) -> 0 | AO6: =SUM(AP6:AX6) -> 20 | AP6: =SUM(AP7:AP7) -> 0 | AQ6: =SUM(AQ7:AQ7) -> 0 | AR6: =SUM(AR7:AR7) -> 19 | AS6: =SUM(AS7:AS7) -> 0 | AT6: =SUM(AT7:AT7) -> 0 | AU6: =SUM(AU7:AU7) -> 1 | AV6: =SUM(AV7:AV7) -> 0 | AW6: =SUM(AW7:AW7) -> 0 | ... AY6: =SUM(AY7:AY7) -> 0
A7: 시군구 소계 | B7: =SUM(C7,N7,Y7,AJ7,AO7) -> 111 | C7: =SUM(D7:M7) -> 4 | D7: =SUM(D8:D8) -> 1 | E7: =SUM(E8:E8) -> 1 | F7: =SUM(F8:F8) -> 2 | G7: =SUM(G8:G8) -> 0 | H7: =SUM(H8:H8) -> 0 | I7: =SUM(I8:I8) -> 0 | J7: =SUM(J8:J8) -> 0 | K7: =SUM(K8:K8) -> 0 | ... M7: =SUM(M8:M8) -> 0 | N7: =SUM(O7:X7) -> 54 | O7: =SUM(O8:O8) -> 0 | P7: =SUM(P8:P8) -> 0 | Q7: =SUM(Q8:Q8) -> 11 | R7: =SUM(R8:R8) -> 1 | S7: =SUM(S8:S8) -> 1 | T7: =SUM(T8:T8) -> 2 | U7: =SUM(U8:U8) -> 0 | V7: =SUM(V8:V8) -> 0 | ... X7: =SUM(X8:X8) -> 39 | Y7: =SUM(Z7:AI7) -> 5 | Z7: =SUM(Z8:Z8) -> 0 | AA7: =SUM(AA8:AA8) -> 0 | AB7: =SUM(AB8:AB8) -> 5 | AC7: =SUM(AC8:AC8) -> 0 | AD7: =SUM(AD8:AD8) -> 0 | AE7: =SUM(AE8:AE8) -> 0 | AF7: =SUM(AF8:AF8) -> 0 | AG7: =SUM(AG8:AG8) -> 0 | ... AI7: =SUM(AI8:AI8) -> 0 | AJ7: =SUM(AK7:AN7) -> 28 | AK7: =SUM(AK8:AK8) -> 0 | AL7: =SUM(AL8:AL8) -> 0 | AM7: =SUM(AM8:AM8) -> 28 | AN7: =SUM(AN8:AN8) -> 0 | AO7: =SUM(AP7:AX7) -> 20 | AP7: =SUM(AP8:AP8) -> 0 | AQ7: =SUM(AQ8:AQ8) -> 0 | AR7: =SUM(AR8:AR8) -> 19 | AS7: =SUM(AS8:AS8) -> 0 | AT7: =SUM(AT8:AT8) -> 0 | AU7: =SUM(AU8:AU8) -> 1 | AV7: =SUM(AV8:AV8) -> 0 | AW7: =SUM(AW8:AW8) -> 0 | ... AY7: =SUM(AY8:AY8) -> 0
A8: 강화군 | B8: =SUM(C8,N8,Y8,AJ8,AO8) -> 111 | C8: =SUM(D8:M8) -> 4 | D8: 1 | E8: 1 | F8: 2 | G8: 0 | H8: 0 | I8: 0 | J8: 0 | K8: 0 | L8: 0 | M8: 0 | N8: =SUM(O8:X8) -> 54 | Q8: 11 | R8: 1 | S8: 1 | T8: 2 | U8: 0 | V8: 0 | W8: 0 | X8: 39 | Y8: =SUM(Z8:AI8) -> 5 | Z8: 0 | AA8: 0 | AB8: 5 | AC8: 0 | AD8: 0 | AE8: 0 | AF8: 0 | AG8: 0 | AH8: 0 | AI8: 0 | AJ8: =SUM(AK8:AN8) -> 28 | AK8: 0 | AL8: 0 | AM8: 28 | AN8: 0 | AO8: =SUM(AP8:AX8) -> 20 | AP8: 0 | AQ8: 0 | AR8: 19 | AS8: 0 | AT8: 0 | AU8: 1 | AV8: 0 | AW8: 0 | AX8: 0 | AY8: 0
