Workbook

Sheet 1월
A1: 경로당 운영비 지급내역(2020.1월)
A3: 연번 | B3: 읍.면 | C3: 경로당명 | D3: 회원수 | E3: 소재지 | F3: 입금계좌 | I3: 지급액 | J3: 운영비 지급기준 (2017.1.1.기준) | K3: 개소수 | L3: 지원단가
F4: 은행명 | G4: 예금주 | H4: 계좌번호 | J4: 50명 미만 | K4: =COUNTIFS(D6:D1003,"<50") -> 83 | L4: 250000
A5: 계 | D5: =SUM(D6:D241) -> 13362 | I5: =SUM(I6:I242) -> 67700000 | J5: 50명 이상~ 100명 미만 | K5: =COUNTIFS(D6:D1003,">=50",D6:D1003,"<100") -> 132 | L5: 300000
A6: 1 | B6: 강화읍 | C6: 협동 | D6: 28 | E6: 남문안길 10 | F6: 011:농협은행 | G6: 강화읍신문리협동경로 | H6: 301-0236-0614-81 | I6: =IF($D6>=100,$L$6,IF($D6>=50,$L$5,$L$4)) -> 250000 | J6: 100명 이상 | K6: =COUNTIFS(D6:D1003,">=100") -> 21 | L6: 350000
A7: 2 | B7: 강화읍 | C7: 신문1,3,5리 | D7: 32 | E7: 청하동길9번길 8 | F7: 011:농협은행 | G7: 강화읍신문1-5리노인 | H7: 351-0311-4734-33 | I7: =IF($D7>=100,$L$6,IF($D7>=50,$L$5,$L$4)) -> 250000 | J7: 경로당 현황
A8: 3 | B8: 강화읍 | C8: 신문1,2,5리(부녀) | D8: 46 | E8: 청하동길9번길 8 | F8: 011:농협은행 | G8: 신문리부녀경로당 | H8: 351-0312-3079-23 | I8: =IF($D8>=100,$L$6,IF($D8>=50,$L$5,$L$4)) -> 250000 | J8: 읍.면 | K8: 개소
A9: 4 | B9: 강화읍 | C9: 신문3리(신문) | D9: 42 | E9: 남문안길 23 | F9: 011:농협은행 | G9: 신문리경로당 | H9: 351-0316-7499-83 | I9: =IF($D9>=100,$L$6,IF($D9>=50,$L$5,$L$4)) -> 250000 | J9: 계 | K9: =SUM(K10:K22) -> 236
A10: 5 | B10: 강화읍 | C10: 신문3리(부녀) | D10: 33 | E10: 남문안길 23 | F10: 011:농협은행 | G10: 강화읍신문부녀경로당 | H10: 351-0848-8685-73 | I10: =IF($D10>=100,$L$6,IF($D10>=50,$L$5,$L$4)) -> 250000 | J10: 강화읍 | K10: =COUNTIF($B$6:$B$1003,$J10) -> 34
A11: 6 | B11: 강화읍 | C11: 신문5리 | D11: 55 | E11: 향나무길22번길 10 | F11: 011:농협은행 | G11: 신문5리 경로당 | H11: 351-1038-3536-53 | I11: =IF($D11>=100,$L$6,IF($D11>=50,$L$5,$L$4)) -> 300000 | J11: 선원면 | K11: =COUNTIF($B$6:$B$1003,$J11) -> 18
A12: 7 | B12: 강화읍 | C12: 관청1,2,3,4(견자산) | D12: 50 | E12: 동문안길20번길 18 | F12: 071:우체국 | G12: 관청1.2.3.4리 | H12: 100479-01-004226 | I12: =IF($D12>=100,$L$6,IF($D12>=50,$L$5,$L$4)) -> 300000 | J12: 불은면 | K12: =COUNTIF($B$6:$B$1003,$J12) -> 18
A13: 8 | B13: 강화읍 | C13: 관청5리(중앙) | D13: 71 | E13: 강화대로440번길 10 | F13: 011:농협은행 | G13: 강화읍관청리중앙경로 | H13: 351-0310-3262-93 | I13: =IF($D13>=100,$L$6,IF($D13>=50,$L$5,$L$4)) -> 300000 | J13: 길상면 | K13: =COUNTIF($B$6:$B$1003,$J13) -> 17
A14: 9 | B14: 강화읍 | C14: 관청5,6,7리(부녀) | D14: 64 | E14: 강화대로440번길 10 | F14: 011:농협은행 | G14: 관청5.6.7리할머니노 | H14: 351-0310-4093-13 | I14: =IF($D14>=100,$L$6,IF($D14>=50,$L$5,$L$4)) -> 300000 | J14: 화도면 | K14: =COUNTIF($B$6:$B$1003,$J14) -> 24
A15: 10 | B15: 강화읍 | C15: 관청7리 | D15: 67 | E15: 향교길 31 | F15: 011:농협은행 | G15: 강화읍관청7리경로당 | H15: 351-0550-8086-03 | I15: =IF($D15>=100,$L$6,IF($D15>=50,$L$5,$L$4)) -> 300000 | J15: 양도면 | K15: =COUNTIF($B$6:$B$1003,$J15) -> 23
A16: 11 | B16: 강화읍 | C16: 국화1리 | D16: 41 | E16: 국화길12번길 5 | F16: 011:농협은행 | G16: 국화1리지방부락 | H16: 351-0287-7062-33 | I16: =IF($D16>=100,$L$6,IF($D16>=50,$L$5,$L$4)) -> 250000 | J16: 내가면 | K16: =COUNTIF($B$6:$B$1003,$J16) -> 14
A17: 12 | B17: 강화읍 | C17: 국화1리(서문) | D17: 69 | E17: 고비고개로18번길 13 | F17: 011:농협은행 | G17: 서문경로당 | H17: 351-1052-0160-53 | I17: =IF($D17>=100,$L$6,IF($D17>=50,$L$5,$L$4)) -> 300000 | J17: 하점면 | K17: =COUNTIF($B$6:$B$1003,$J17) -> 23
A18: 13 | B18: 강화읍 | C18: 국화2리 | D18: 90 | E18: 고비고개로 186 | F18: 011:농협은행 | G18: 강화읍 국화2리노인회 | H18: 351-0287-2501-83 | I18: =IF($D18>=100,$L$6,IF($D18>=50,$L$5,$L$4)) -> 300000 | J18: 양사면 | K18: =COUNTIF($B$6:$B$1003,$J18) -> 12
A19: 14 | B19: 강화읍 | C19: 남산1리 | D19: 71 | E19: 부조고개길 21 | F19: 071:우체국 | G19: 남산1리경로당 | H19: 100479-01-004337 | I19: =IF($D19>=100,$L$6,IF($D19>=50,$L$5,$L$4)) -> 300000 | J19: 송해면 | K19: =COUNTIF($B$6:$B$1003,$J19) -> 13
A20: 15 | B20: 강화읍 | C20: 남산1리(선화) | D20: 32 | E20: 부조고개길56번길 14 | F20: 011:농협은행 | G20: 선화골경로당 | H20: 351-0242-8362-43 | I20: =IF($D20>=100,$L$6,IF($D20>=50,$L$5,$L$4)) -> 250000 | J20: 교동면 | K20: =COUNTIF($B$6:$B$1003,$J20) -> 20
A21: 16 | B21: 강화읍 | C21: 남산2리 | D21: 62 | E21: 충렬사로 103-15 | F21: 011:농협은행 | G21: 강화읍남산2리노인회 | H21: 351-0323-9941-13 | I21: =IF($D21>=100,$L$6,IF($D21>=50,$L$5,$L$4)) -> 300000 | J21: 삼산면 | K21: =COUNTIF($B$6:$B$1003,$J21) -> 15
A22: 17 | B22: 강화읍 | C22: 갑곳1,3,4 | D22: 57 | E22: 강화대로248번길 8 | F22: 011:농협은행 | G22: 갑곳 1 3 4리경로당 | H22: 351-0316-3494-43 | I22: =IF($D22>=100,$L$6,IF($D22>=50,$L$5,$L$4)) -> 300000 | J22: 서도면 | K22: =COUNTIF($B$6:$B$1003,$J22) -> 5
A23: 18 | B23: 강화읍 | C23: 갑곳1,3,4(부녀) | D23: 62 | E23: 강화대로248번길 8 | F23: 011:농협은행 | G23: 갑곳 1 3 4리 경로당 | H23: 351-0767-4553-53 | I23: =IF($D23>=100,$L$6,IF($D23>=50,$L$5,$L$4)) -> 300000
A24: 19 | B24: 강화읍 | C24: 갑곳2(먹절) | D24: 23 | E24: 강화대로 169 | F24: 011:농협은행 | G24: 강화읍갑곳2리경로당 | H24: 351-0296-0717-13 | I24: =IF($D24>=100,$L$6,IF($D24>=50,$L$5,$L$4)) -> 250000
A25: 20 | B25: 강화읍 | C25: 갑곳2(부녀) | D25: 23 | E25: 강화대로 169 | F25: 011:농협은행 | G25: 강화읍갑곳2리노인할 | H25: 351-0297-3202-83 | I25: =IF($D25>=100,$L$6,IF($D25>=50,$L$5,$L$4)) -> 250000
A26: 21 | B26: 강화읍 | C26: 주진빌라 | D26: 42 | E26: 강화대로 185-2, 다동 207호 | F26: 011:농협은행 | G26: 주진빌라 경로당 | H26: 351-1062-0558-83 | I26: =IF($D26>=100,$L$6,IF($D26>=50,$L$5,$L$4)) -> 250000
A27: 22 | B27: 강화읍 | C27: 현대아파트 | D27: 35 | E27: 강화대로 191-14 | F27: 048:신협중앙회 | G27: 현대아파트경로당 | H27: 131-014-289653 | I27: =IF($D27>=100,$L$6,IF($D27>=50,$L$5,$L$4)) -> 250000
A28: 23 | B28: 강화읍 | C28: 강화베이힐 | D28: 45 | E28: 강화대로 234-12 | F28: 048:신협중앙회 | G28: 베이힐아파트경로당 | H28: 131-016-829451 | I28: =IF($D28>=100,$L$6,IF($D28>=50,$L$5,$L$4)) -> 250000
A29: 24 | B29: 강화읍 | C29: 용정1리 | D29: 71 | E29: 갑룡길 184 | F29: 011:농협은행 | G29: 용정1리노인회 | H29: 351-0293-4728-33 | I29: =IF($D29>=100,$L$6,IF($D29>=50,$L$5,$L$4)) -> 300000
A30: 25 | B30: 강화읍 | C30: 용정2리(신양) | D30: 61 | E30: 강화대로154번길 38 | F30: 011:농협은행 | G30: 용정2리 경로당 | H30: 351-0286-5083-63 | I30: =IF($D30>=100,$L$6,IF($D30>=50,$L$5,$L$4)) -> 300000
A31: 26 | B31: 강화읍 | C31: 옥림1리 | D31: 70 | E31: 동문로 176-1 | F31: 011:농협은행 | G31: 옥림1동 경로당 | H31: 351-0316-5790-93 | I31: =IF($D31>=100,$L$6,IF($D31>=50,$L$5,$L$4)) -> 300000
A32: 27 | B32: 강화읍 | C32: 옥림리(옥감) | D32: 31 | E32: 동문로 260 | F32: 011:농협은행 | G32: 옥감경로당 | H32: 351-0316-4506-23 | I32: =IF($D32>=100,$L$6,IF($D32>=50,$L$5,$L$4)) -> 250000
A33: 28 | B33: 강화읍 | C33: 옥림2리 | D33: 53 | E33: 동문로 131 | F33: 011:농협은행 | G33: 옥림2리경로당 | H33: 351-0316-7459-03 | I33: =IF($D33>=100,$L$6,IF($D33>=50,$L$5,$L$4)) -> 300000
A34: 29 | B34: 강화읍 | C34: 월곳리 | D34: 68 | E34: 연미정길 54 | F34: 011:농협은행 | G34: 강화읍 월곳리 노인회 | H34: 351-0319-3447-43 | I34: =IF($D34>=100,$L$6,IF($D34>=50,$L$5,$L$4)) -> 300000
... A241: 236 | B241: 서도면 | C241: 볼음2리 | D241: 22 | E241: 볼음도길 388 | F241: 011:농협은행 | G241: 볼음2리경로당 | H241: 355-0010-2223-63 | I241: =IF($D241>=100,$L$6,IF($D241>=50,$L$5,$L$4)) -> 250000

Sheet 2월
A1: 경로당 운영비 지급내역(2020.2월)
A3: 연번 | B3: 읍.면 | C3: 경로당명 | D3: 회원수 | E3: 소재지 | F3: 입금계좌 | I3: 지급액 | J3: 운영비 지급기준 (2017.1.1.기준) | K3: 개소수 | L3: 지원단가
F4: 은행명 | G4: 예금주 | H4: 계좌번호 | J4: 50명 미만 | K4: =COUNTIFS(D6:D1003,"<50") -> 83 | L4: 250000
A5: 계 | D5: =SUM(D6:D241) -> 13362 | I5: =SUM(I6:I242) -> 67700000 | J5: 50명 이상~ 100명 미만 | K5: =COUNTIFS(D6:D1003,">=50",D6:D1003,"<100") -> 132 | L5: 300000
A6: 1 | B6: 강화읍 | C6: 협동 | D6: 28 | E6: 남문안길 10 | F6: 011:농협은행 | G6: 강화읍신문리협동경로 | H6: 301-0236-0614-81 | I6: =IF($D6>=100,$L$6,IF($D6>=50,$L$5,$L$4)) -> 250000 | J6: 100명 이상 | K6: =COUNTIFS(D6:D1003,">=100") -> 21 | L6: 350000
A7: 2 | B7: 강화읍 | C7: 신문1,3,5리 | D7: 32 | E7: 청하동길9번길 8 | F7: 011:농협은행 | G7: 강화읍신문1-5리노인 | H7: 351-0311-4734-33 | I7: =IF($D7>=100,$L$6,IF($D7>=50,$L$5,$L$4)) -> 250000 | J7: 경로당 현황
A8: 3 | B8: 강화읍 | C8: 신문1,2,5리(부녀) | D8: 46 | E8: 청하동길9번길 8 | F8: 011:농협은행 | G8: 신문리부녀경로당 | H8: 351-0312-3079-23 | I8: =IF($D8>=100,$L$6,IF($D8>=50,$L$5,$L$4)) -> 250000 | J8: 읍.면 | K8: 개소
A9: 4 | B9: 강화읍 | C9: 신문3리(신문) | D9: 42 | E9: 남문안길 23 | F9: 011:농협은행 | G9: 신문리경로당 | H9: 351-0316-7499-83 | I9: =IF($D9>=100,$L$6,IF($D9>=50,$L$5,$L$4)) -> 250000 | J9: 계 | K9: =SUM(K10:K22) -> 236
A10: 5 | B10: 강화읍 | C10: 신문3리(부녀) | D10: 33 | E10: 남문안길 23 | F10: 011:농협은행 | G10: 강화읍신문부녀경로당 | H10: 351-0848-8685-73 | I10: =IF($D10>=100,$L$6,IF($D10>=50,$L$5,$L$4)) -> 250000 | J10: 강화읍 | K10: =COUNTIF($B$6:$B$1003,$J10) -> 34
A11: 6 | B11: 강화읍 | C11: 신문5리 | D11: 55 | E11: 향나무길22번길 10 | F11: 011:농협은행 | G11: 신문5리 경로당 | H11: 351-1038-3536-53 | I11: =IF($D11>=100,$L$6,IF($D11>=50,$L$5,$L$4)) -> 300000 | J11: 선원면 | K11: =COUNTIF($B$6:$B$1003,$J11) -> 18
A12: 7 | B12: 강화읍 | C12: 관청1,2,3,4(견자산) | D12: 50 | E12: 동문안길20번길 18 | F12: 071:우체국 | G12: 관청1.2.3.4리 | H12: 100479-01-004226 | I12: =IF($D12>=100,$L$6,IF($D12>=50,$L$5,$L$4)) -> 300000 | J12: 불은면 | K12: =COUNTIF($B$6:$B$1003,$J12) -> 18
A13: 8 | B13: 강화읍 | C13: 관청5리(중앙) | D13: 71 | E13: 강화대로440번길 10 | F13: 011:농협은행 | G13: 강화읍관청리중앙경로 | H13: 351-0310-3262-93 | I13: =IF($D13>=100,$L$6,IF($D13>=50,$L$5,$L$4)) -> 300000 | J13: 길상면 | K13: =COUNTIF($B$6:$B$1003,$J13) -> 17
A14: 9 | B14: 강화읍 | C14: 관청5,6,7리(부녀) | D14: 64 | E14: 강화대로440번길 10 | F14: 011:농협은행 | G14: 관청5.6.7리할머니노 | H14: 351-0310-4093-13 | I14: =IF($D14>=100,$L$6,IF($D14>=50,$L$5,$L$4)) -> 300000 | J14: 화도면 | K14: =COUNTIF($B$6:$B$1003,$J14) -> 24
A15: 10 | B15: 강화읍 | C15: 관청7리 | D15: 67 | E15: 향교길 31 | F15: 011:농협은행 | G15: 강화읍관청7리경로당 | H15: 351-0550-8086-03 | I15: =IF($D15>=100,$L$6,IF($D15>=50,$L$5,$L$4)) -> 300000 | J15: 양도면 | K15: =COUNTIF($B$6:$B$1003,$J15) -> 23
A16: 11 | B16: 강화읍 | C16: 국화1리 | D16: 41 | E16: 국화길12번길 5 | F16: 011:농협은행 | G16: 국화1리지방부락 | H16: 351-0287-7062-33 | I16: =IF($D16>=100,$L$6,IF($D16>=50,$L$5,$L$4)) -> 250000 | J16: 내가면 | K16: =COUNTIF($B$6:$B$1003,$J16) -> 14
A17: 12 | B17: 강화읍 | C17: 국화1리(서문) | D17: 69 | E17: 고비고개로18번길 13 | F17: 011:농협은행 | G17: 서문경로당 | H17: 351-1052-0160-53 | I17: =IF($D17>=100,$L$6,IF($D17>=50,$L$5,$L$4)) -> 300000 | J17: 하점면 | K17: =COUNTIF($B$6:$B$1003,$J17) -> 23
A18: 13 | B18: 강화읍 | C18: 국화2리 | D18: 90 | E18: 고비고개로 186 | F18: 011:농협은행 | G18: 강화읍 국화2리노인회 | H18: 351-0287-2501-83 | I18: =IF($D18>=100,$L$6,IF($D18>=50,$L$5,$L$4)) -> 300000 | J18: 양사면 | K18: =COUNTIF($B$6:$B$1003,$J18) -> 12
A19: 14 | B19: 강화읍 | C19: 남산1리 | D19: 71 | E19: 부조고개길 21 | F19: 071:우체국 | G19: 남산1리경로당 | H19: 100479-01-004337 | I19: =IF($D19>=100,$L$6,IF($D19>=50,$L$5,$L$4)) -> 300000 | J19: 송해면 | K19: =COUNTIF($B$6:$B$1003,$J19) -> 13
A20: 15 | B20: 강화읍 | C20: 남산1리(선화) | D20: 32 | E20: 부조고개길56번길 14 | F20: 011:농협은행 | G20: 선화골경로당 | H20: 351-0242-8362-43 | I20: =IF($D20>=100,$L$6,IF($D20>=50,$L$5,$L$4)) -> 250000 | J20: 교동면 | K20: =COUNTIF($B$6:$B$1003,$J20) -> 20
A21: 16 | B21: 강화읍 | C21: 남산2리 | D21: 62 | E21: 충렬사로 103-15 | F21: 011:농협은행 | G21: 강화읍남산2리노인회 | H21: 351-0323-9941-13 | I21: =IF($D21>=100,$L$6,IF($D21>=50,$L$5,$L$4)) -> 300000 | J21: 삼산면 | K21: =COUNTIF($B$6:$B$1003,$J21) -> 15
A22: 17 | B22: 강화읍 | C22: 갑곳1,3,4 | D22: 57 | E22: 강화대로248번길 8 | F22: 011:농협은행 | G22: 갑곳 1 3 4리경로당 | H22: 351-0316-3494-43 | I22: =IF($D22>=100,$L$6,IF($D22>=50,$L$5,$L$4)) -> 300000 | J22: 서도면 | K22: =COUNTIF($B$6:$B$1003,$J22) -> 5
A23: 18 | B23: 강화읍 | C23: 갑곳1,3,4(부녀) | D23: 62 | E23: 강화대로248번길 8 | F23: 011:농협은행 | G23: 갑곳 1 3 4리 경로당 | H23: 351-0767-4553-53 | I23: =IF($D23>=100,$L$6,IF($D23>=50,$L$5,$L$4)) -> 300000
A24: 19 | B24: 강화읍 | C24: 갑곳2(먹절) | D24: 23 | E24: 강화대로 169 | F24: 011:농협은행 | G24: 강화읍갑곳2리경로당 | H24: 351-0296-0717-13 | I24: =IF($D24>=100,$L$6,IF($D24>=50,$L$5,$L$4)) -> 250000
A25: 20 | B25: 강화읍 | C25: 갑곳2(부녀) | D25: 23 | E25: 강화대로 169 | F25: 011:농협은행 | G25: 강화읍갑곳2리노인할 | H25: 351-0297-3202-83 | I25: =IF($D25>=100,$L$6,IF($D25>=50,$L$5,$L$4)) -> 250000
A26: 21 | B26: 강화읍 | C26: 주진빌라 | D26: 42 | E26: 강화대로 185-2, 다동 207호 | F26: 011:농협은행 | G26: 주진빌라 경로당 | H26: 351-1062-0558-83 | I26: =IF($D26>=100,$L$6,IF($D26>=50,$L$5,$L$4)) -> 250000
A27: 22 | B27: 강화읍 | C27: 현대아파트 | D27: 35 | E27: 강화대로 191-14 | F27: 048:신협중앙회 | G27: 현대아파트경로당 | H27: 131-014-289653 | I27: =IF($D27>=100,$L$6,IF($D27>=50,$L$5,$L$4)) -> 250000
A28: 23 | B28: 강화읍 | C28: 강화베이힐 | D28: 45 | E28: 강화대로 234-12 | F28: 048:신협중앙회 | G28: 베이힐아파트경로당 | H28: 131-016-829451 | I28: =IF($D28>=100,$L$6,IF($D28>=50,$L$5,$L$4)) -> 250000
A29: 24 | B29: 강화읍 | C29: 용정1리 | D29: 71 | E29: 갑룡길 184 | F29: 011:농협은행 | G29: 용정1리노인회 | H29: 351-0293-4728-33 | I29: =IF($D29>=100,$L$6,IF($D29>=50,$L$5,$L$4)) -> 300000
A30: 25 | B30: 강화읍 | C30: 용정2리(신양) | D30: 61 | E30: 강화대로154번길 38 | F30: 011:농협은행 | G30: 용정2리 경로당 | H30: 351-0286-5083-63 | I30: =IF($D30>=100,$L$6,IF($D30>=50,$L$5,$L$4)) -> 300000
A31: 26 | B31: 강화읍 | C31: 옥림1리 | D31: 70 | E31: 동문로 176-1 | F31: 011:농협은행 | G31: 옥림1동 경로당 | H31: 351-0316-5790-93 | I31: =IF($D31>=100,$L$6,IF($D31>=50,$L$5,$L$4)) -> 300000
A32: 27 | B32: 강화읍 | C32: 옥림리(옥감) | D32: 31 | E32: 동문로 260 | F32: 011:농협은행 | G32: 옥감경로당 | H32: 351-0316-4506-23 | I32: =IF($D32>=100,$L$6,IF($D32>=50,$L$5,$L$4)) -> 250000
A33: 28 | B33: 강화읍 | C33: 옥림2리 | D33: 53 | E33: 동문로 131 | F33: 011:농협은행 | G33: 옥림2리경로당 | H33: 351-0316-7459-03 | I33: =IF($D33>=100,$L$6,IF($D33>=50,$L$5,$L$4)) -> 300000
A34: 29 | B34: 강화읍 | C34: 월곳리 | D34: 68 | E34: 연미정길 54 | F34: 011:농협은행 | G34: 강화읍 월곳리 노인회 | H34: 351-0319-3447-43 | I34: =IF($D34>=100,$L$6,IF($D34>=50,$L$5,$L$4)) -> 300000
... A241: 236 | B241: 서도면 | C241: 볼음2리 | D241: 22 | E241: 볼음도길 388 | F241: 011:농협은행 | G241: 볼음2리경로당 | H241: 355-0010-2223-63 | I241: =IF($D241>=100,$L$6,IF($D241>=50,$L$5,$L$4)) -> 250000

Sheet 3월
A1: 경로당 운영비 지급내역(2020.3월)
A3: 연번 | B3: 읍.면 | C3: 경로당명 | D3: 회원수 | E3: 소재지 | F3: 입금계좌 | I3: 지급액 | J3: 운영비 지급기준 (2017.1.1.기준) | K3: 개소수 | L3: 지원단가
F4: 은행명 | G4: 예금주 | H4: 계좌번호 | J4: 50명 미만 | K4: =COUNTIFS(D6:D1003,"<50") -> 83 | L4: 250000
A5: 계 | D5: =SUM(D6:D241) -> 13362 | I5: =SUM(I6:I242) -> 67700000 | J5: 50명 이상~ 100명 미만 | K5: =COUNTIFS(D6:D1003,">=50",D6:D1003,"<100") -> 132 | L5: 300000
A6: 1 | B6: 강화읍 | C6: 협동 | D6: 28 | E6: 남문안길 10 | F6: 011:농협은행 | G6: 강화읍신문리협동경로 | H6: 301-0236-0614-81 | I6: =IF($D6>=100,$L$6,IF($D6>=50,$L$5,$L$4)) -> 250000 | J6: 100명 이상 | K6: =COUNTIFS(D6:D1003,">=100") -> 21 | L6: 350000 | M6: =VLOOKUP(C6,'3월'!$C$6:$C$238,1,FALSE) -> 협동
A7: 2 | B7: 강화읍 | C7: 신문1,3,5리 | D7: 32 | E7: 청하동길9번길 8 | F7: 011:농협은행 | G7: 강화읍신문1-5리노인 | H7: 351-0311-4734-33 | I7: =IF($D7>=100,$L$6,IF($D7>=50,$L$5,$L$4)) -> 250000 | J7: 경로당 현황 | M7: =VLOOKUP(C7,'3월'!$C$6:$C$238,1,FALSE) -> 신문1,3,5리
A8: 3 | B8: 강화읍 | C8: 신문1,2,5리(부녀) | D8: 46 | E8: 청하동길9번길 8 | F8: 011:농협은행 | G8: 신문리부녀경로당 | H8: 351-0312-3079-23 | I8: =IF($D8>=100,$L$6,IF($D8>=50,$L$5,$L$4)) -> 250000 | J8: 읍.면 | K8: 개소 | M8: =VLOOKUP(C8,'3월'!$C$6:$C$238,1,FALSE) -> 신문1,2,5리(부녀)
A9: 4 | B9: 강화읍 | C9: 신문3리(신문) | D9: 42 | E9: 남문안길 23 | F9: 011:농협은행 | G9: 신문리경로당 | H9: 351-0316-7499-83 | I9: =IF($D9>=100,$L$6,IF($D9>=50,$L$5,$L$4)) -> 250000 | J9: 계 | K9: =SUM(K10:K22) -> 236 | M9: =VLOOKUP(C9,'3월'!$C$6:$C$238,1,FALSE) -> 신문3리(신문)
A10: 5 | B10: 강화읍 | C10: 신문3리(부녀) | D10: 33 | E10: 남문안길 23 | F10: 011:농협은행 | G10: 강화읍신문부녀경로당 | H10: 351-0848-8685-73 | I10: =IF($D10>=100,$L$6,IF($D10>=50,$L$5,$L$4)) -> 250000 | J10: 강화읍 | K10: =COUNTIF($B$6:$B$1003,$J10) -> 34 | M10: =VLOOKUP(C10,'3월'!$C$6:$C$238,1,FALSE) -> 신문3리(부녀)
A11: 6 | B11: 강화읍 | C11: 신문5리 | D11: 55 | E11: 향나무길22번길 10 | F11: 011:농협은행 | G11: 신문5리 경로당 | H11: 351-1038-3536-53 | I11: =IF($D11>=100,$L$6,IF($D11>=50,$L$5,$L$4)) -> 300000 | J11: 선원면 | K11: =COUNTIF($B$6:$B$1003,$J11) -> 18 | M11: =VLOOKUP(C11,'3월'!$C$6:$C$238,1,FALSE) -> 신문5리
A12: 7 | B12: 강화읍 | C12: 관청1,2,3,4(견자산) | D12: 50 | E12: 동문안길20번길 18 | F12: 071:우체국 | G12: 관청1.2.3.4리 | H12: 100479-01-004226 | I12: =IF($D12>=100,$L$6,IF($D12>=50,$L$5,$L$4)) -> 300000 | J12: 불은면 | K12: =COUNTIF($B$6:$B$1003,$J12) -> 18 | M12: =VLOOKUP(C12,'3월'!$C$6:$C$238,1,FALSE) -> 관청1,2,3,4(견자산)
A13: 8 | B13: 강화읍 | C13: 관청5리(중앙) | D13: 71 | E13: 강화대로440번길 10 | F13: 011:농협은행 | G13: 강화읍관청리중앙경로 | H13: 351-0310-3262-93 | I13: =IF($D13>=100,$L$6,IF($D13>=50,$L$5,$L$4)) -> 300000 | J13: 길상면 | K13: =COUNTIF($B$6:$B$1003,$J13) -> 17 | M13: =VLOOKUP(C13,'3월'!$C$6:$C$238,1,FALSE) -> 관청5리(중앙)
A14: 9 | B14: 강화읍 | C14: 관청5,6,7리(부녀) | D14: 64 | E14: 강화대로440번길 10 | F14: 011:농협은행 | G14: 관청5.6.7리할머니노 | H14: 351-0310-4093-13 | I14: =IF($D14>=100,$L$6,IF($D14>=50,$L$5,$L$4)) -> 300000 | J14: 화도면 | K14: =COUNTIF($B$6:$B$1003,$J14) -> 24 | M14: =VLOOKUP(C14,'3월'!$C$6:$C$238,1,FALSE) -> 관청5,6,7리(부녀)
A15: 10 | B15: 강화읍 | C15: 관청7리 | D15: 67 | E15: 향교길 31 | F15: 011:농협은행 | G15: 강화읍관청7리경로당 | H15: 351-0550-8086-03 | I15: =IF($D15>=100,$L$6,IF($D15>=50,$L$5,$L$4)) -> 300000 | J15: 양도면 | K15: =COUNTIF($B$6:$B$1003,$J15) -> 23 | M15: =VLOOKUP(C15,'3월'!$C$6:$C$238,1,FALSE) -> 관청7리
A16: 11 | B16: 강화읍 | C16: 국화1리 | D16: 41 | E16: 국화길12번길 5 | F16: 011:농협은행 | G16: 국화1리지방부락 | H16: 351-0287-7062-33 | I16: =IF($D16>=100,$L$6,IF($D16>=50,$L$5,$L$4)) -> 250000 | J16: 내가면 | K16: =COUNTIF($B$6:$B$1003,$J16) -> 14 | M16: =VLOOKUP(C16,'3월'!$C$6:$C$238,1,FALSE) -> 국화1리
A17: 12 | B17: 강화읍 | C17: 국화1리(서문) | D17: 69 | E17: 고비고개로18번길 13 | F17: 011:농협은행 | G17: 서문경로당 | H17: 351-1052-0160-53 | I17: =IF($D17>=100,$L$6,IF($D17>=50,$L$5,$L$4)) -> 300000 | J17: 하점면 | K17: =COUNTIF($B$6:$B$1003,$J17) -> 23 | M17: =VLOOKUP(C17,'3월'!$C$6:$C$238,1,FALSE) -> 국화1리(서문)
A18: 13 | B18: 강화읍 | C18: 국화2리 | D18: 90 | E18: 고비고개로 186 | F18: 011:농협은행 | G18: 강화읍 국화2리노인회 | H18: 351-0287-2501-83 | I18: =IF($D18>=100,$L$6,IF($D18>=50,$L$5,$L$4)) -> 300000 | J18: 양사면 | K18: =COUNTIF($B$6:$B$1003,$J18) -> 12 | M18: =VLOOKUP(C18,'3월'!$C$6:$C$238,1,FALSE) -> 국화2리
A19: 14 | B19: 강화읍 | C19: 남산1리 | D19: 71 | E19: 부조고개길 21 | F19: 071:우체국 | G19: 남산1리경로당 | H19: 100479-01-004337 | I19: =IF($D19>=100,$L$6,IF($D19>=50,$L$5,$L$4)) -> 300000 | J19: 송해면 | K19: =COUNTIF($B$6:$B$1003,$J19) -> 13 | M19: =VLOOKUP(C19,'3월'!$C$6:$C$238,1,FALSE) -> 남산1리
A20: 15 | B20: 강화읍 | C20: 남산1리(선화) | D20: 32 | E20: 부조고개길56번길 14 | F20: 011:농협은행 | G20: 선화골경로당 | H20: 351-0242-8362-43 | I20: =IF($D20>=100,$L$6,IF($D20>=50,$L$5,$L$4)) -> 250000 | J20: 교동면 | K20: =COUNTIF($B$6:$B$1003,$J20) -> 20 | M20: =VLOOKUP(C20,'3월'!$C$6:$C$238,1,FALSE) -> 남산1리(선화)
A21: 16 | B21: 강화읍 | C21: 남산2리 | D21: 62 | E21: 충렬사로 103-15 | F21: 011:농협은행 | G21: 강화읍남산2리노인회 | H21: 351-0323-9941-13 | I21: =IF($D21>=100,$L$6,IF($D21>=50,$L$5,$L$4)) -> 300000 | J21: 삼산면 | K21: =COUNTIF($B$6:$B$1003,$J21) -> 15 | M21: =VLOOKUP(C21,'3월'!$C$6:$C$238,1,FALSE) -> 남산2리
A22: 17 | B22: 강화읍 | C22: 갑곳1,3,4 | D22: 57 | E22: 강화대로248번길 8 | F22: 011:농협은행 | G22: 갑곳 1 3 4리경로당 | H22: 351-0316-3494-43 | I22: =IF($D22>=100,$L$6,IF($D22>=50,$L$5,$L$4)) -> 300000 | J22: 서도면 | K22: =COUNTIF($B$6:$B$1003,$J22) -> 5 | M22: =VLOOKUP(C22,'3월'!$C$6:$C$238,1,FALSE) -> 갑곳1,3,4
A23: 18 | B23: 강화읍 | C23: 갑곳1,3,4(부녀) | D23: 62 | E23: 강화대로248번길 8 | F23: 011:농협은행 | G23: 갑곳 1 3 4리 경로당 | H23: 351-0767-4553-53 | I23: =IF($D23>=100,$L$6,IF($D23>=50,$L$5,$L$4)) -> 300000 | M23: =VLOOKUP(C23,'3월'!$C$6:$C$238,1,FALSE) -> 갑곳1,3,4(부녀)
A24: 19 | B24: 강화읍 | C24: 갑곳2(먹절) | D24: 23 | E24: 강화대로 169 | F24: 011:농협은행 | G24: 강화읍갑곳2리경로당 | H24: 351-0296-0717-13 | I24: =IF($D24>=100,$L$6,IF($D24>=50,$L$5,$L$4)) -> 250000 | M24: =VLOOKUP(C24,'3월'!$C$6:$C$238,1,FALSE) -> 갑곳2(먹절)
A25: 20 | B25: 강화읍 | C25: 갑곳2(부녀) | D25: 23 | E25: 강화대로 169 | F25: 011:농협은행 | G25: 강화읍갑곳2리노인할 | H25: 351-0297-3202-83 | I25: =IF($D25>=100,$L$6,IF($D25>=50,$L$5,$L$4)) -> 250000 | M25: =VLOOKUP(C25,'3월'!$C$6:$C$238,1,FALSE) -> 갑곳2(부녀)
A26: 21 | B26: 강화읍 | C26: 주진빌라 | D26: 42 | E26: 강화대로 185-2, 다동 207호 | F26: 011:농협은행 | G26: 주진빌라 경로당 | H26: 351-1062-0558-83 | I26: =IF($D26>=100,$L$6,IF($D26>=50,$L$5,$L$4)) -> 250000 | M26: =VLOOKUP(C26,'3월'!$C$6:$C$238,1,FALSE) -> 주진빌라
A27: 22 | B27: 강화읍 | C27: 현대아파트 | D27: 35 | E27: 강화대로 191-14 | F27: 048:신협중앙회 | G27: 현대아파트경로당 | H27: 131-014-289653 | I27: =IF($D27>=100,$L$6,IF($D27>=50,$L$5,$L$4)) -> 250000 | M27: =VLOOKUP(C27,'3월'!$C$6:$C$238,1,FALSE) -> 현대아파트
A28: 23 | B28: 강화읍 | C28: 강화베이힐 | D28: 45 | E28: 강화대로 234-12 | F28: 048:신협중앙회 | G28: 베이힐아파트경로당 | H28: 131-016-829451 | I28: =IF($D28>=100,$L$6,IF($D28>=50,$L$5,$L$4)) -> 250000 | M28: =VLOOKUP(C28,'3월'!$C$6:$C$238,1,FALSE) -> 강화베이힐
A29: 24 | B29: 강화읍 | C29: 용정1리 | D29: 71 | E29: 갑룡길 184 | F29: 011:농협은행 | G29: 용정1리노인회 | H29: 351-0293-4728-33 | I29: =IF($D29>=100,$L$6,IF($D29>=50,$L$5,$L$4)) -> 300000 | M29: =VLOOKUP(C29,'3월'!$C$6:$C$238,1,FALSE) -> 용정1리
A30: 25 | B30: 강화읍 | C30: 용정2리(신양) | D30: 61 | E30: 강화대로154번길 38 | F30: 011:농협은행 | G30: 용정2리 경로당 | H30: 351-0286-5083-63 | I30: =IF($D30>=100,$L$6,IF($D30>=50,$L$5,$L$4)) -> 300000 | M30: =VLOOKUP(C30,'3월'!$C$6:$C$238,1,FALSE) -> 용정2리(신양)
A31: 26 | B31: 강화읍 | C31: 옥림1리 | D31: 70 | E31: 동문로 176-1 | F31: 011:농협은행 | G31: 옥림1동 경로당 | H31: 351-0316-5790-93 | I31: =IF($D31>=100,$L$6,IF($D31>=50,$L$5,$L$4)) -> 300000 | M31: =VLOOKUP(C31,'3월'!$C$6:$C$238,1,FALSE) -> 옥림1리
A32: 27 | B32: 강화읍 | C32: 옥림리(옥감) | D32: 31 | E32: 동문로 260 | F32: 011:농협은행 | G32: 옥감경로당 | H32: 351-0316-4506-23 | I32: =IF($D32>=100,$L$6,IF($D32>=50,$L$5,$L$4)) -> 250000 | M32: =VLOOKUP(C32,'3월'!$C$6:$C$238,1,FALSE) -> 옥림리(옥감)
A33: 28 | B33: 강화읍 | C33: 옥림2리 | D33: 53 | E33: 동문로 131 | F33: 011:농협은행 | G33: 옥림2리경로당 | H33: 351-0316-7459-03 | I33: =IF($D33>=100,$L$6,IF($D33>=50,$L$5,$L$4)) -> 300000 | M33: =VLOOKUP(C33,'3월'!$C$6:$C$238,1,FALSE) -> 옥림2리
A34: 29 | B34: 강화읍 | C34: 월곳리 | D34: 68 | E34: 연미정길 54 | F34: 011:농협은행 | G34: 강화읍 월곳리 노인회 | H34: 351-0319-3447-43 | I34: =IF($D34>=100,$L$6,IF($D34>=50,$L$5,$L$4)) -> 300000 | M34: =VLOOKUP(C34,'3월'!$C$6:$C$238,1,FALSE) -> 월곳리
... A241: 236 | B241: 서도면 | C241: 볼음2리 | D241: 22 | E241: 볼음도길 388 | F241: 011:농협은행 | G241: 볼음2리경로당 | H241: 355-0010-2223-63 | I241: =IF($D241>=100,$L$6,IF($D241>=50,$L$5,$L$4)) -> 250000 | M241: =VLOOKUP(C241,'3월'!$C$6:$C$238,1,FALSE) -> #N/A

Sheet 4월
A1: 경로당 운영비 지급내역(2020.4월)
A3: 연번 | B3: 읍.면 | C3: 경로당명 | D3: 회원수 | E3: 소재지 | F3: 입금계좌 | I3: 지급액 | J3: 운영비 지급기준 (2017.1.1.기준) | K3: 개소수 | L3: 지원단가
F4: 은행명 | G4: 예금주 | H4: 계좌번호 | J4: 50명 미만 | K4: =COUNTIFS(D6:D1000,"<50") -> 80 | L4: 250000
A5: 계 | D5: =SUM(D6:D238) -> 13259 | I5: =SUM(I6:I239) -> 66950000 | J5: 50명 이상~ 100명 미만 | K5: =COUNTIFS(D6:D1000,">=50",D6:D1000,"<100") -> 132 | L5: 300000
A6: 1 | B6: 강화읍 | C6: 신문1,3,5리 | D6: 32 | E6: 청하동길9번길 8 | F6: 011:농협은행 | G6: 강화읍신문1-5리노인 | H6: 351-0311-4734-33 | I6: =IF($D6>=100,$L$6,IF($D6>=50,$L$5,$L$4)) -> 250000 | J6: 100명 이상 | K6: =COUNTIFS(D6:D1000,">=100") -> 21 | L6: 350000
A7: 2 | B7: 강화읍 | C7: 신문1,2,5리(부녀) | D7: 46 | E7: 청하동길9번길 8 | F7: 011:농협은행 | G7: 신문리부녀경로당 | H7: 351-0312-3079-23 | I7: =IF($D7>=100,$L$6,IF($D7>=50,$L$5,$L$4)) -> 250000 | J7: 경로당 현황
A8: 3 | B8: 강화읍 | C8: 신문5리 | D8: 55 | E8: 향나무길22번길 10 | F8: 011:농협은행 | G8: 신문5리 경로당 | H8: 351-1038-3536-53 | I8: =IF($D8>=100,$L$6,IF($D8>=50,$L$5,$L$4)) -> 300000 | J8: 읍.면 | K8: 개소
A9: 4 | B9: 강화읍 | C9: 관청1,2,3,4(견자산) | D9: 50 | E9: 동문안길20번길 18 | F9: 071:우체국 | G9: 관청1.2.3.4리 | H9: 100479-01-004226 | I9: =IF($D9>=100,$L$6,IF($D9>=50,$L$5,$L$4)) -> 300000 | J9: 계 | K9: =SUM(K10:K22) -> 233
A10: 5 | B10: 강화읍 | C10: 관청5리(중앙) | D10: 71 | E10: 강화대로440번길 10 | F10: 011:농협은행 | G10: 강화읍관청리중앙경로 | H10: 351-0310-3262-93 | I10: =IF($D10>=100,$L$6,IF($D10>=50,$L$5,$L$4)) -> 300000 | J10: 강화읍 | K10: =COUNTIF($B$6:$B$1000,$J10) -> 31
A11: 6 | B11: 강화읍 | C11: 관청5,6,7리(부녀) | D11: 64 | E11: 강화대로440번길 10 | F11: 011:농협은행 | G11: 관청5.6.7리할머니노 | H11: 351-0310-4093-13 | I11: =IF($D11>=100,$L$6,IF($D11>=50,$L$5,$L$4)) -> 300000 | J11: 선원면 | K11: =COUNTIF($B$6:$B$1000,$J11) -> 18
A12: 7 | B12: 강화읍 | C12: 관청7리 | D12: 67 | E12: 향교길 31 | F12: 011:농협은행 | G12: 강화읍관청7리경로당 | H12: 351-0550-8086-03 | I12: =IF($D12>=100,$L$6,IF($D12>=50,$L$5,$L$4)) -> 300000 | J12: 불은면 | K12: =COUNTIF($B$6:$B$1000,$J12) -> 18
A13: 8 | B13: 강화읍 | C13: 국화1리 | D13: 41 | E13: 국화길12번길 5 | F13: 011:농협은행 | G13: 국화1리지방부락 | H13: 351-0287-7062-33 | I13: =IF($D13>=100,$L$6,IF($D13>=50,$L$5,$L$4)) -> 250000 | J13: 길상면 | K13: =COUNTIF($B$6:$B$1000,$J13) -> 17
A14: 9 | B14: 강화읍 | C14: 국화1리(서문) | D14: 69 | E14: 고비고개로18번길 13 | F14: 011:농협은행 | G14: 서문경로당 | H14: 351-1052-0160-53 | I14: =IF($D14>=100,$L$6,IF($D14>=50,$L$5,$L$4)) -> 300000 | J14: 화도면 | K14: =COUNTIF($B$6:$B$1000,$J14) -> 24
A15: 10 | B15: 강화읍 | C15: 국화2리 | D15: 90 | E15: 고비고개로 186 | F15: 011:농협은행 | G15: 강화읍 국화2리노인회 | H15: 351-0287-2501-83 | I15: =IF($D15>=100,$L$6,IF($D15>=50,$L$5,$L$4)) -> 300000 | J15: 양도면 | K15: =COUNTIF($B$6:$B$1000,$J15) -> 23
A16: 11 | B16: 강화읍 | C16: 남산1리 | D16: 71 | E16: 부조고개길 21 | F16: 071:우체국 | G16: 남산1리경로당 | H16: 100479-01-004337 | I16: =IF($D16>=100,$L$6,IF($D16>=50,$L$5,$L$4)) -> 300000 | J16: 내가면 | K16: =COUNTIF($B$6:$B$1000,$J16) -> 14
A17: 12 | B17: 강화읍 | C17: 남산1리(선화) | D17: 32 | E17: 부조고개길56번길 14 | F17: 011:농협은행 | G17: 선화골경로당 | H17: 351-0242-8362-43 | I17: =IF($D17>=100,$L$6,IF($D17>=50,$L$5,$L$4)) -> 250000 | J17: 하점면 | K17: =COUNTIF($B$6:$B$1000,$J17) -> 23
A18: 13 | B18: 강화읍 | C18: 남산2리 | D18: 62 | E18: 충렬사로 103-15 | F18: 011:농협은행 | G18: 강화읍남산2리노인회 | H18: 351-0323-9941-13 | I18: =IF($D18>=100,$L$6,IF($D18>=50,$L$5,$L$4)) -> 300000 | J18: 양사면 | K18: =COUNTIF($B$6:$B$1000,$J18) -> 12
A19: 14 | B19: 강화읍 | C19: 갑곳1,3,4 | D19: 57 | E19: 강화대로248번길 8 | F19: 011:농협은행 | G19: 갑곳 1 3 4리경로당 | H19: 351-0316-3494-43 | I19: =IF($D19>=100,$L$6,IF($D19>=50,$L$5,$L$4)) -> 300000 | J19: 송해면 | K19: =COUNTIF($B$6:$B$1000,$J19) -> 13
A20: 15 | B20: 강화읍 | C20: 갑곳1,3,4(부녀) | D20: 62 | E20: 강화대로248번길 8 | F20: 011:농협은행 | G20: 갑곳 1 3 4리 경로당 | H20: 351-0767-4553-53 | I20: =IF($D20>=100,$L$6,IF($D20>=50,$L$5,$L$4)) -> 300000 | J20: 교동면 | K20: =COUNTIF($B$6:$B$1000,$J20) -> 20
A21: 16 | B21: 강화읍 | C21: 갑곳2(먹절) | D21: 23 | E21: 강화대로 169 | F21: 011:농협은행 | G21: 강화읍갑곳2리경로당 | H21: 351-0296-0717-13 | I21: =IF($D21>=100,$L$6,IF($D21>=50,$L$5,$L$4)) -> 250000 | J21: 삼산면 | K21: =COUNTIF($B$6:$B$1000,$J21) -> 15
A22: 17 | B22: 강화읍 | C22: 갑곳2(부녀) | D22: 23 | E22: 강화대로 169 | F22: 011:농협은행 | G22: 강화읍갑곳2리노인할 | H22: 351-0297-3202-83 | I22: =IF($D22>=100,$L$6,IF($D22>=50,$L$5,$L$4)) -> 250000 | J22: 서도면 | K22: =COUNTIF($B$6:$B$1000,$J22) -> 5
A23: 18 | B23: 강화읍 | C23: 주진빌라 | D23: 42 | E23: 강화대로 185-2, 다동 207호 | F23: 011:농협은행 | G23: 주진빌라 경로당 | H23: 351-1062-0558-83 | I23: =IF($D23>=100,$L$6,IF($D23>=50,$L$5,$L$4)) -> 250000
A24: 19 | B24: 강화읍 | C24: 현대아파트 | D24: 35 | E24: 강화대로 191-14 | F24: 048:신협중앙회 | G24: 현대아파트경로당 | H24: 131-014-289653 | I24: =IF($D24>=100,$L$6,IF($D24>=50,$L$5,$L$4)) -> 250000
A25: 20 | B25: 강화읍 | C25: 강화베이힐 | D25: 45 | E25: 강화대로 234-12 | F25: 048:신협중앙회 | G25: 베이힐아파트경로당 | H25: 131-016-829451 | I25: =IF($D25>=100,$L$6,IF($D25>=50,$L$5,$L$4)) -> 250000
A26: 21 | B26: 강화읍 | C26: 용정1리 | D26: 71 | E26: 갑룡길 184 | F26: 011:농협은행 | G26: 용정1리노인회 | H26: 351-0293-4728-33 | I26: =IF($D26>=100,$L$6,IF($D26>=50,$L$5,$L$4)) -> 300000
A27: 22 | B27: 강화읍 | C27: 용정2리(신양) | D27: 61 | E27: 강화대로154번길 38 | F27: 011:농협은행 | G27: 용정2리 경로당 | H27: 351-0286-5083-63 | I27: =IF($D27>=100,$L$6,IF($D27>=50,$L$5,$L$4)) -> 300000
A28: 23 | B28: 강화읍 | C28: 옥림1리 | D28: 70 | E28: 동문로 176-1 | F28: 011:농협은행 | G28: 옥림1동 경로당 | H28: 351-0316-5790-93 | I28: =IF($D28>=100,$L$6,IF($D28>=50,$L$5,$L$4)) -> 300000
A29: 24 | B29: 강화읍 | C29: 옥림리(옥감) | D29: 31 | E29: 동문로 260 | F29: 011:농협은행 | G29: 옥감경로당 | H29: 351-0316-4506-23 | I29: =IF($D29>=100,$L$6,IF($D29>=50,$L$5,$L$4)) -> 250000
A30: 25 | B30: 강화읍 | C30: 옥림2리 | D30: 53 | E30: 동문로 131 | F30: 011:농협은행 | G30: 옥림2리경로당 | H30: 351-0316-7459-03 | I30: =IF($D30>=100,$L$6,IF($D30>=50,$L$5,$L$4)) -> 300000
A31: 26 | B31: 강화읍 | C31: 월곳리 | D31: 68 | E31: 연미정길 54 | F31: 011:농협은행 | G31: 강화읍 월곳리 노인회 | H31: 351-0319-3447-43 | I31: =IF($D31>=100,$L$6,IF($D31>=50,$L$5,$L$4)) -> 300000
A32: 27 | B32: 강화읍 | C32: 대산1리 | D32: 106 | E32: 대산길 174 | F32: 011:농협은행 | G32: 강화읍대산1리경로당 | H32: 351-0322-8061-73 | I32: =IF($D32>=100,$L$6,IF($D32>=50,$L$5,$L$4)) -> 350000
A33: 28 | B33: 강화읍 | C33: 대산2리 | D33: 101 | E33: 대산길51번길 3 | F33: 011:농협은행 | G33: 강화읍대산2리경로당 | H33: 301-0073-2702-71 | I33: =IF($D33>=100,$L$6,IF($D33>=50,$L$5,$L$4)) -> 350000
A34: 29 | B34: 강화읍 | C34: 미래지향아파트 | D34: 27 | E34: 남문로 41 | F34: 011:농협은행 | G34: 미래지향아파트 노인 | H34: 301-0170-7186-11 | I34: =IF($D34>=100,$L$6,IF($D34>=50,$L$5,$L$4)) -> 250000
... A238: 233 | B238: 서도면 | C238: 볼음2리 | D238: 22 | E238: 볼음도길 388 | F238: 011:농협은행 | G238: 볼음2리경로당 | H238: 355-0010-2223-63 | I238: =IF($D238>=100,$L$6,IF($D238>=50,$L$5,$L$4)) -> 250000

Sheet 4월(추가)
A1: 경로당 운영비 지급내역(2020.4월)
A3: 연번 | B3: 읍.면 | C3: 경로당명 | D3: 회원수 | E3: 소재지 | F3: 입금계좌 | I3: 지급액 | J3: 운영비 지급기준 (2017.1.1.기준) | K3: 개소수 | L3: 지원단가
F4: 은행명 | G4: 예금주 | H4: 계좌번호 | J4: 50명 미만 | K4: =COUNTIFS(D6:D1000,"<50") -> 0 | L4: 250000
A5: 계 | D5: =SUM(D6:D238) -> 101 | I5: =SUM(I6:I239) -> 350000 | J5: 50명 이상~ 100명 미만 | K5: =COUNTIFS(D6:D1000,">=50",D6:D1000,"<100") -> 0 | L5: 300000
A6: 1 | B6: 강화읍 | C6: 신문리(대안) | D6: 101 | E6: 강화대로419번길 5-1 | F6: 011:농협은행 | G6: 신문리대안경로당 | H6: 351-1129-8918-33 | I6: =IF($D6>=100,$L$6,IF($D6>=50,$L$5,$L$4)) -> 350000 | J6: 100명 이상 | K6: =COUNTIFS(D6:D1000,">=100") -> 1 | L6: 350000
J7: 경로당 현황
J8: 읍.면 | K8: 개소
J9: 계 | K9: =SUM(K10:K22) -> 1
J10: 강화읍 | K10: =COUNTIF($B$6:$B$1000,$J10) -> 1
J11: 선원면 | K11: =COUNTIF($B$6:$B$1000,$J11) -> 0
J12: 불은면 | K12: =COUNTIF($B$6:$B$1000,$J12) -> 0
J13: 길상면 | K13: =COUNTIF($B$6:$B$1000,$J13) -> 0
J14: 화도면 | K14: =COUNTIF($B$6:$B$1000,$J14) -> 0
J15: 양도면 | K15: =COUNTIF($B$6:$B$1000,$J15) -> 0
J16: 내가면 | K16: =COUNTIF($B$6:$B$1000,$J16) -> 0
J17: 하점면 | K17: =COUNTIF($B$6:$B$1000,$J17) -> 0
J18: 양사면 | K18: =COUNTIF($B$6:$B$1000,$J18) -> 0
J19: 송해면 | K19: =COUNTIF($B$6:$B$1000,$J19) -> 0
J20: 교동면 | K20: =COUNTIF($B$6:$B$1000,$J20) -> 0
J21: 삼산면 | K21: =COUNTIF($B$6:$B$1000,$J21) -> 0
J22: 서도면 | K22: =COUNTIF($B$6:$B$1000,$J22) -> 0

Sheet 5월
A1: 경로당 운영비 지급내역(2020.5월)
A3: 연번 | B3: 읍.면 | C3: 경로당명 | D3: 회원수 | E3: 소재지 | F3: 입금계좌 | I3: 지급액 | J3: 운영비 지급기준 (2017.1.1.기준) | K3: 개소수 | L3: 지원단가
F4: 은행명 | G4: 예금주 | H4: 계좌번호 | J4: 50명 미만 | K4: =COUNTIFS(D6:D1001,"<50") -> 80 | L4: 250000
A5: 계 | D5: =SUM(D6:D239) -> 13360 | I5: =SUM(I6:I240) -> 67300000 | J5: 50명 이상~ 100명 미만 | K5: =COUNTIFS(D6:D1001,">=50",D6:D1001,"<100") -> 132 | L5: 300000
A6: 1 | B6: 강화읍 | C6: 신문1,3,5리 | D6: 32 | E6: 청하동길9번길 8 | F6: 011:농협은행 | G6: 강화읍신문1-5리노인 | H6: 351-0311-4734-33 | I6: =IF($D6>=100,$L$6,IF($D6>=50,$L$5,$L$4)) -> 250000 | J6: 100명 이상 | K6: =COUNTIFS(D6:D1001,">=100") -> 22 | L6: 350000
A7: 2 | B7: 강화읍 | C7: 신문1,2,5리(부녀) | D7: 46 | E7: 청하동길9번길 8 | F7: 011:농협은행 | G7: 신문리부녀경로당 | H7: 351-0312-3079-23 | I7: =IF($D7>=100,$L$6,IF($D7>=50,$L$5,$L$4)) -> 250000 | J7: 경로당 현황
A8: 3 | B8: 강화읍 | C8: 신문리(대안) | D8: 101 | E8: 강화대로419번길 5-1 | F8: 011:농협은행 | G8: 신문리대안경로당 | H8: 351-1129-8918-33 | I8: =IF($D8>=100,$L$6,IF($D8>=50,$L$5,$L$4)) -> 350000 | J8: 읍.면 | K8: 개소
A9: 4 | B9: 강화읍 | C9: 신문5리 | D9: 55 | E9: 향나무길22번길 10 | F9: 011:농협은행 | G9: 신문5리 경로당 | H9: 351-1038-3536-53 | I9: =IF($D9>=100,$L$6,IF($D9>=50,$L$5,$L$4)) -> 300000 | J9: 계 | K9: =SUM(K10:K22) -> 234
A10: 5 | B10: 강화읍 | C10: 관청1,2,3,4(견자산) | D10: 50 | E10: 동문안길20번길 18 | F10: 071:우체국 | G10: 관청1.2.3.4리 | H10: 100479-01-004226 | I10: =IF($D10>=100,$L$6,IF($D10>=50,$L$5,$L$4)) -> 300000 | J10: 강화읍 | K10: =COUNTIF($B$6:$B$1001,$J10) -> 32
A11: 6 | B11: 강화읍 | C11: 관청5리(중앙) | D11: 71 | E11: 강화대로440번길 10 | F11: 011:농협은행 | G11: 강화읍관청리중앙경로 | H11: 351-0310-3262-93 | I11: =IF($D11>=100,$L$6,IF($D11>=50,$L$5,$L$4)) -> 300000 | J11: 선원면 | K11: =COUNTIF($B$6:$B$1001,$J11) -> 18
A12: 7 | B12: 강화읍 | C12: 관청5,6,7리(부녀) | D12: 64 | E12: 강화대로440번길 10 | F12: 011:농협은행 | G12: 관청5.6.7리할머니노 | H12: 351-0310-4093-13 | I12: =IF($D12>=100,$L$6,IF($D12>=50,$L$5,$L$4)) -> 300000 | J12: 불은면 | K12: =COUNTIF($B$6:$B$1001,$J12) -> 18
A13: 8 | B13: 강화읍 | C13: 관청7리 | D13: 67 | E13: 향교길 31 | F13: 011:농협은행 | G13: 강화읍관청7리경로당 | H13: 351-0550-8086-03 | I13: =IF($D13>=100,$L$6,IF($D13>=50,$L$5,$L$4)) -> 300000 | J13: 길상면 | K13: =COUNTIF($B$6:$B$1001,$J13) -> 17
A14: 9 | B14: 강화읍 | C14: 국화1리 | D14: 41 | E14: 국화길12번길 5 | F14: 011:농협은행 | G14: 국화1리지방부락 | H14: 351-0287-7062-33 | I14: =IF($D14>=100,$L$6,IF($D14>=50,$L$5,$L$4)) -> 250000 | J14: 화도면 | K14: =COUNTIF($B$6:$B$1001,$J14) -> 24
A15: 10 | B15: 강화읍 | C15: 국화1리(서문) | D15: 69 | E15: 고비고개로18번길 13 | F15: 011:농협은행 | G15: 서문경로당 | H15: 351-1052-0160-53 | I15: =IF($D15>=100,$L$6,IF($D15>=50,$L$5,$L$4)) -> 300000 | J15: 양도면 | K15: =COUNTIF($B$6:$B$1001,$J15) -> 23
A16: 11 | B16: 강화읍 | C16: 국화2리 | D16: 90 | E16: 고비고개로 186 | F16: 011:농협은행 | G16: 강화읍 국화2리노인회 | H16: 351-0287-2501-83 | I16: =IF($D16>=100,$L$6,IF($D16>=50,$L$5,$L$4)) -> 300000 | J16: 내가면 | K16: =COUNTIF($B$6:$B$1001,$J16) -> 14
A17: 12 | B17: 강화읍 | C17: 남산1리 | D17: 71 | E17: 부조고개길 21 | F17: 071:우체국 | G17: 남산1리경로당 | H17: 100479-01-004337 | I17: =IF($D17>=100,$L$6,IF($D17>=50,$L$5,$L$4)) -> 300000 | J17: 하점면 | K17: =COUNTIF($B$6:$B$1001,$J17) -> 23
A18: 13 | B18: 강화읍 | C18: 남산1리(선화) | D18: 32 | E18: 부조고개길56번길 14 | F18: 011:농협은행 | G18: 선화골경로당 | H18: 351-0242-8362-43 | I18: =IF($D18>=100,$L$6,IF($D18>=50,$L$5,$L$4)) -> 250000 | J18: 양사면 | K18: =COUNTIF($B$6:$B$1001,$J18) -> 12
A19: 14 | B19: 강화읍 | C19: 남산2리 | D19: 62 | E19: 충렬사로 103-15 | F19: 011:농협은행 | G19: 강화읍남산2리노인회 | H19: 351-0323-9941-13 | I19: =IF($D19>=100,$L$6,IF($D19>=50,$L$5,$L$4)) -> 300000 | J19: 송해면 | K19: =COUNTIF($B$6:$B$1001,$J19) -> 13
A20: 15 | B20: 강화읍 | C20: 갑곳1,3,4 | D20: 57 | E20: 강화대로248번길 8 | F20: 011:농협은행 | G20: 갑곳 1 3 4리경로당 | H20: 351-0316-3494-43 | I20: =IF($D20>=100,$L$6,IF($D20>=50,$L$5,$L$4)) -> 300000 | J20: 교동면 | K20: =COUNTIF($B$6:$B$1001,$J20) -> 20
A21: 16 | B21: 강화읍 | C21: 갑곳1,3,4(부녀) | D21: 62 | E21: 강화대로248번길 8 | F21: 011:농협은행 | G21: 갑곳 1 3 4리 경로당 | H21: 351-0767-4553-53 | I21: =IF($D21>=100,$L$6,IF($D21>=50,$L$5,$L$4)) -> 300000 | J21: 삼산면 | K21: =COUNTIF($B$6:$B$1001,$J21) -> 15
A22: 17 | B22: 강화읍 | C22: 갑곳2(먹절) | D22: 23 | E22: 강화대로 169 | F22: 011:농협은행 | G22: 강화읍갑곳2리경로당 | H22: 351-0296-0717-13 | I22: =IF($D22>=100,$L$6,IF($D22>=50,$L$5,$L$4)) -> 250000 | J22: 서도면 | K22: =COUNTIF($B$6:$B$1001,$J22) -> 5
A23: 18 | B23: 강화읍 | C23: 갑곳2(부녀) | D23: 23 | E23: 강화대로 169 | F23: 011:농협은행 | G23: 강화읍갑곳2리노인할 | H23: 351-0297-3202-83 | I23: =IF($D23>=100,$L$6,IF($D23>=50,$L$5,$L$4)) -> 250000
A24: 19 | B24: 강화읍 | C24: 주진빌라 | D24: 42 | E24: 강화대로 185-2, 다동 207호 | F24: 011:농협은행 | G24: 주진빌라 경로당 | H24: 351-1062-0558-83 | I24: =IF($D24>=100,$L$6,IF($D24>=50,$L$5,$L$4)) -> 250000
A25: 20 | B25: 강화읍 | C25: 현대아파트 | D25: 35 | E25: 강화대로 191-14 | F25: 048:신협중앙회 | G25: 현대아파트경로당 | H25: 131-014-289653 | I25: =IF($D25>=100,$L$6,IF($D25>=50,$L$5,$L$4)) -> 250000
A26: 21 | B26: 강화읍 | C26: 강화베이힐 | D26: 45 | E26: 강화대로 234-12 | F26: 048:신협중앙회 | G26: 베이힐아파트경로당 | H26: 131-016-829451 | I26: =IF($D26>=100,$L$6,IF($D26>=50,$L$5,$L$4)) -> 250000
A27: 22 | B27: 강화읍 | C27: 용정1리 | D27: 71 | E27: 갑룡길 184 | F27: 011:농협은행 | G27: 용정1리노인회 | H27: 351-0293-4728-33 | I27: =IF($D27>=100,$L$6,IF($D27>=50,$L$5,$L$4)) -> 300000
A28: 23 | B28: 강화읍 | C28: 용정2리(신양) | D28: 61 | E28: 강화대로154번길 38 | F28: 011:농협은행 | G28: 용정2리 경로당 | H28: 351-0286-5083-63 | I28: =IF($D28>=100,$L$6,IF($D28>=50,$L$5,$L$4)) -> 300000
A29: 24 | B29: 강화읍 | C29: 옥림1리 | D29: 70 | E29: 동문로 176-1 | F29: 011:농협은행 | G29: 옥림1동 경로당 | H29: 351-0316-5790-93 | I29: =IF($D29>=100,$L$6,IF($D29>=50,$L$5,$L$4)) -> 300000
A30: 25 | B30: 강화읍 | C30: 옥림리(옥감) | D30: 31 | E30: 동문로 260 | F30: 011:농협은행 | G30: 옥감경로당 | H30: 351-0316-4506-23 | I30: =IF($D30>=100,$L$6,IF($D30>=50,$L$5,$L$4)) -> 250000
A31: 26 | B31: 강화읍 | C31: 옥림2리 | D31: 53 | E31: 동문로 131 | F31: 011:농협은행 | G31: 옥림2리경로당 | H31: 351-0316-7459-03 | I31: =IF($D31>=100,$L$6,IF($D31>=50,$L$5,$L$4)) -> 300000
A32: 27 | B32: 강화읍 | C32: 월곳리 | D32: 68 | E32: 연미정길 54 | F32: 011:농협은행 | G32: 강화읍 월곳리 노인회 | H32: 351-0319-3447-43 | I32: =IF($D32>=100,$L$6,IF($D32>=50,$L$5,$L$4)) -> 300000
A33: 28 | B33: 강화읍 | C33: 대산1리 | D33: 106 | E33: 대산길 174 | F33: 011:농협은행 | G33: 강화읍대산1리경로당 | H33: 351-0322-8061-73 | I33: =IF($D33>=100,$L$6,IF($D33>=50,$L$5,$L$4)) -> 350000
A34: 29 | B34: 강화읍 | C34: 대산2리 | D34: 101 | E34: 대산길51번길 3 | F34: 011:농협은행 | G34: 강화읍대산2리경로당 | H34: 301-0073-2702-71 | I34: =IF($D34>=100,$L$6,IF($D34>=50,$L$5,$L$4)) -> 350000
... A239: 234 | B239: 서도면 | C239: 볼음2리 | D239: 22 | E239: 볼음도길 388 | F239: 011:농협은행 | G239: 볼음2리경로당 | H239: 355-0010-2223-63 | I239: =IF($D239>=100,$L$6,IF($D239>=50,$L$5,$L$4)) -> 250000

Sheet 경로당 현황
A1: 경로당 현황
A3: 연번 | B3: 읍.면 | C3: 경로당명 | D3: 소재지 | E3: 비고
A5: 1 | B5: 강화읍 | C5: 신문리(대안) | D5: 강화대로419번길 5-1
A6: 2 | B6: 강화읍 | C6: 신문1,3,5리 | D6: 청하동길9번길 8
A7: 3 | B7: 강화읍 | C7: 신문1,2,5리(부녀) | D7: 청하동길9번길 8
A8: 4 | B8: 강화읍 | C8: 신문4리 | D8: 청하동길 60
A9: 5 | B9: 강화읍 | C9: 신문5리 | D9: 향나무길22번길 10
A10: 6 | B10: 강화읍 | C10: 관청1리 동문 | D10: 관청길10번길 8
A11: 7 | B11: 강화읍 | C11: 관청1,2,3,4(견자산) | D11: 동문안길20번길 18
A12: 8 | B12: 강화읍 | C12: 관청5리(중앙) | D12: 관청길65번길 9
A13: 9 | B13: 강화읍 | C13: 관청5,6,7리(부녀) | D13: 관청길65번길 9
A14: 10 | B14: 강화읍 | C14: 관청6리 | D14: 관청길 84
A15: 11 | B15: 강화읍 | C15: 관청7리 | D15: 향교길 31
A16: 12 | B16: 강화읍 | C16: 국화1리 | D16: 국화길12번길 5
... A243: 239 | B243: 서도면 | C243: 볼음2리 | D243: 볼음도길 388
